BEGIN:VCALENDAR
VERSION:2.0
PRODID:spatie/icalendar-generator
DESCRIPTION:Events from Kirkland Strict Baptist Chapel
X-WR-CALDESC:Events from Kirkland Strict Baptist Chapel
REFRESH-INTERVAL;VALUE=DURATION:PT1440M
X-PUBLISHED-TTL:PT1440M
BEGIN:VTIMEZONE
TZID:Europe/London
BEGIN:STANDARD
DTSTART:20241027T020000Z
TZOFFSETFROM:+0100
TZOFFSETTO:+0000
END:STANDARD
BEGIN:DAYLIGHT
DTSTART:20250330T010000Z
TZOFFSETFROM:+0000
TZOFFSETTO:+0100
END:DAYLIGHT
BEGIN:STANDARD
DTSTART:20251026T020000Z
TZOFFSETFROM:+0100
TZOFFSETTO:+0000
END:STANDARD
END:VTIMEZONE
BEGIN:VTIMEZONE
TZID:UTC
BEGIN:STANDARD
DTSTART:20250726T124624Z
TZOFFSETFROM:+0000
TZOFFSETTO:+0000
END:STANDARD
END:VTIMEZONE
BEGIN:VEVENT
UID:120-61
DTSTAMP:20260422T124624Z
SUMMARY:Lord's Day 20 July 2025 - Prayer Meeting14:15
LOCATION:Kirkland Strict Baptist Chapel Longmoor Lane Nateby Garstang Lanca
 shire PR3 0JH
ORGANIZER;CN=Kirkland Admin:MAILTO:j-bowe@sky.com
DTSTART;TZID=Europe/London:20250720T141500
DTEND;TZID=Europe/London:20250720T151500
X-ALT-DESC;FMTTYPE=TEXT/HTML:God willing there will be a Prayer Meeting com
 mencing at 14:15.
CATEGORIES:Anniversary Service
URL;VALUE=URI:https://kirklandstrictbaptist.org/?mc-events=lords-day-20-jul
 y-2025-prayer-meeting1415
METHOD:PUBLISH
END:VEVENT
END:VCALENDAR