BEGIN:VCALENDAR
VERSION:2.0
PRODID:spatie/icalendar-generator
DESCRIPTION:Events from Kirkland Strict Baptist Chapel
X-WR-CALDESC:Events from Kirkland Strict Baptist Chapel
REFRESH-INTERVAL;VALUE=DURATION:PT1440M
X-PUBLISHED-TTL:PT1440M
BEGIN:VTIMEZONE
TZID:Europe/London
BEGIN:DAYLIGHT
DTSTART:20240331T010000Z
TZOFFSETFROM:+0000
TZOFFSETTO:+0100
END:DAYLIGHT
BEGIN:STANDARD
DTSTART:20241027T020000Z
TZOFFSETFROM:+0100
TZOFFSETTO:+0000
END:STANDARD
BEGIN:DAYLIGHT
DTSTART:20250330T010000Z
TZOFFSETFROM:+0000
TZOFFSETTO:+0100
END:DAYLIGHT
END:VTIMEZONE
BEGIN:VTIMEZONE
TZID:UTC
BEGIN:STANDARD
DTSTART:20250724T103227Z
TZOFFSETFROM:+0000
TZOFFSETTO:+0000
END:STANDARD
END:VTIMEZONE
BEGIN:VEVENT
UID:77-27
DTSTAMP:20260420T103227Z
SUMMARY:Lord’s Day 24 November 2024 – SERVICE CANCELLED
LOCATION:Kirkland Strict Baptist Chapel Longmoor Lane Nateby Garstang Lanca
 shire PR3 0JH
ORGANIZER;CN=Kirkland Admin:MAILTO:j-bowe@sky.com
DTSTART;TZID=Europe/London:20241124T143000
DTEND;TZID=Europe/London:20241124T153000
X-ALT-DESC;FMTTYPE=TEXT/HTML:Service cancelled due to difficult travel cond
 itions and risk of flooding
CATEGORIES:Preaching Service,  General
URL;VALUE=URI:https://kirklandstrictbaptist.org/?mc-events=lords-day-24-nov
 ember-2024-service-cancelled
METHOD:PUBLISH
END:VEVENT
END:VCALENDAR